BEGIN:VCALENDAR
VERSION:2.0
PRODID:-//Texas Gamers Lounge - ECPv5.15.0.1//NONSGML v1.0//EN
CALSCALE:GREGORIAN
METHOD:PUBLISH
X-WR-CALNAME:Texas Gamers Lounge
X-ORIGINAL-URL:https://texasgamerslounge.com
X-WR-CALDESC:Events for Texas Gamers Lounge
REFRESH-INTERVAL;VALUE=DURATION:PT1H
X-Robots-Tag:noindex
X-PUBLISHED-TTL:PT1H
BEGIN:VTIMEZONE
TZID:America/Chicago
BEGIN:DAYLIGHT
TZOFFSETFROM:-0600
TZOFFSETTO:-0500
TZNAME:CDT
DTSTART:20200308T080000
END:DAYLIGHT
BEGIN:STANDARD
TZOFFSETFROM:-0500
TZOFFSETTO:-0600
TZNAME:CST
DTSTART:20201101T070000
END:STANDARD
END:VTIMEZONE
BEGIN:VEVENT
DTSTART;TZID=America/Chicago:20200612T180000
DTEND;TZID=America/Chicago:20200612T220000
DTSTAMP:20260422T135857
CREATED:20200604T060028Z
LAST-MODIFIED:20200604T060028Z
UID:1534-1591984800-1591999200@texasgamerslounge.com
SUMMARY:Re-Opening of TGL San Marcos\, TX Location!
DESCRIPTION:Specific details coming soon… But go ahead and bookmark the date!
URL:https://texasgamerslounge.com/event/2020/06/re-opening-of-tgl-san-marcos-tx-location/
LOCATION:Texas Gamers Lounge – San Marcos\, TX – SMTX\, 4105 Hunter Rd\, Suite #19\, San Marcos\, TX\, 78666\, United States
CATEGORIES:Arcade Events
END:VEVENT
END:VCALENDAR